BEGIN:VCALENDAR
VERSION:2.0
PRODID:-//Kids in Connecticut - ECPv6.15.20//NONSGML v1.0//EN
CALSCALE:GREGORIAN
METHOD:PUBLISH
X-WR-CALNAME:Kids in Connecticut
X-ORIGINAL-URL:https://kidsinconnecticut.com
X-WR-CALDESC:Events for Kids in Connecticut
REFRESH-INTERVAL;VALUE=DURATION:PT1H
X-Robots-Tag:noindex
X-PUBLISHED-TTL:PT1H
BEGIN:VTIMEZONE
TZID:America/New_York
BEGIN:DAYLIGHT
TZOFFSETFROM:-0500
TZOFFSETTO:-0400
TZNAME:EDT
DTSTART:20220313T070000
END:DAYLIGHT
BEGIN:STANDARD
TZOFFSETFROM:-0400
TZOFFSETTO:-0500
TZNAME:EST
DTSTART:20221106T060000
END:STANDARD
BEGIN:DAYLIGHT
TZOFFSETFROM:-0500
TZOFFSETTO:-0400
TZNAME:EDT
DTSTART:20230312T070000
END:DAYLIGHT
BEGIN:STANDARD
TZOFFSETFROM:-0400
TZOFFSETTO:-0500
TZNAME:EST
DTSTART:20231105T060000
END:STANDARD
BEGIN:DAYLIGHT
TZOFFSETFROM:-0500
TZOFFSETTO:-0400
TZNAME:EDT
DTSTART:20240310T070000
END:DAYLIGHT
BEGIN:STANDARD
TZOFFSETFROM:-0400
TZOFFSETTO:-0500
TZNAME:EST
DTSTART:20241103T060000
END:STANDARD
END:VTIMEZONE
BEGIN:VEVENT
DTSTART;TZID=America/New_York:20230429T100000
DTEND;TZID=America/New_York:20230430T180000
DTSTAMP:20260421T055113
CREATED:20230419T045313Z
LAST-MODIFIED:20230419T045350Z
UID:1465-1682762400-1682877600@kidsinconnecticut.com
SUMMARY:Connecticut Canine Festival at Priam Vineyards Colchester
DESCRIPTION:What’s better than Dogs\, a Vineyard\, a beautiful spring weekend\, family and friends???? If you guessed FREE ADMISSION\, you are the winner. Join Priam Vineyards on April 29th and 30th from 10am to 6pm for the Annual Connecticut Canine Festival!!!! \n \nThis is an amazing weekend for the entire family at Priam Vineyards winery and it includes man’s best friend. Yes\, Dogs are absolutely welcome!!!! \nThere will be 60+ crafters and vendors\, ten  food trucks and of course a great selection of wine and beer to enjoy PLUS Kids activities\, music photo ops\, and more. Free Dog contests and activities throughout they day along with prizes for all our winners. Rescues and shelters on site with dogs for adoption
URL:https://kidsinconnecticut.com/event/connecticut-canine-festival-at-priam-vineyards/
LOCATION:Priam Vineyards\, 11 Shailor Hill Road\, Colchester\, CT\, 06415
CATEGORIES:Colchester
ATTACH;FMTTYPE=image/jpeg:https://kidsinconnecticut.com/wp-content/uploads/2023/04/2-16.jpg
END:VEVENT
END:VCALENDAR